BEGIN:VCALENDAR
VERSION:2.0
PRODID:-//UNVM - ECPv6.15.20//NONSGML v1.0//EN
CALSCALE:GREGORIAN
METHOD:PUBLISH
X-WR-CALNAME:UNVM
X-ORIGINAL-URL:https://www.unvm.edu.ar
X-WR-CALDESC:Eventos para UNVM
REFRESH-INTERVAL;VALUE=DURATION:PT1H
X-Robots-Tag:noindex
X-PUBLISHED-TTL:PT1H
BEGIN:VTIMEZONE
TZID:America/Argentina/Cordoba
BEGIN:STANDARD
TZOFFSETFROM:-0300
TZOFFSETTO:-0300
TZNAME:-03
DTSTART:20250101T000000
END:STANDARD
END:VTIMEZONE
BEGIN:VEVENT
DTSTART;VALUE=DATE:20260407
DTEND;VALUE=DATE:20260429
DTSTAMP:20260420T173611
CREATED:20260413T155410Z
LAST-MODIFIED:20260413T155508Z
UID:35332-1775520000-1777420799@www.unvm.edu.ar
SUMMARY:Cine Club Universitario: Ciclo “Krzysztof Kieślowski”
DESCRIPTION:Retorna el CCU con una programación dedicada al director polaco. Todos los martes de abril a las 20.30 horas en la Medioteca Municipal (Sabattini 40). Entrada libre y gratuita. \nEn 2026 el Instituto de Ciencias Humanas relanza el Cine Club Universitario (CCU). A través de esta propuesta la Universidad Nacional de Villa María (UNVM) recupera una tradición clave en la formación cultural y audiovisual. \nComo ocurrió históricamente entre 2007 y 2019\, la propuesta se desarrollará semanalmente todos los martes a las 20.30 horas en la Medioteca Municipal Mariano Moreno. Entrada libre y gratuita. \nEl primer ciclo homenajeará al director polaco Krzysztof Kieślowski con el siguiente calendario de proyecciones: \n• 7/4: “El amateur” | 1979.\n• 14/4: “El azar” | 1981.\n• 21/4: “Sin final” | 1985.\n• 28/4: “La doble vida de Verónica” | 1991. \nEntre abril y noviembre de 2026\, se organizarán ciclos temáticos que invitarán a recorrer distintas tradiciones\, estéticas y geografías del cine con el objetivo de difundir obras de alto valor artístico y cultural\, recuperar tradiciones del cine mundial\, latinoamericano y argentino\, y formar espectadores activos capaces de reflexionar sobre las imágenes y los contextos en los que se producen. \nCabe precisar que el equipo del CCU está integrado por estudiantes\, docentes y graduados de la Licenciatura en Diseño y Producción Audiovisual y coordinado por los docentes Maximiliano Lema y Lautaro Aguirre.
URL:https://www.unvm.edu.ar/evento/cine-club-universitario-ciclo-krzysztof-kieslowski/
LOCATION:Medioteca Municipal\, Av. Sabattini 40
CATEGORIES:Destacadas
ATTACH;FMTTYPE=image/jpeg:https://www.unvm.edu.ar/wp-content/uploads/2026/04/CCU_Ciclo1_2026.jpg
END:VEVENT
BEGIN:VEVENT
DTSTART;VALUE=DATE:20260414
DTEND;VALUE=DATE:20260425
DTSTAMP:20260420T173611
CREATED:20260413T134424Z
LAST-MODIFIED:20260413T140737Z
UID:35316-1776124800-1777075199@www.unvm.edu.ar
SUMMARY:“El Poder de la Fragilidad”\, nueva muestra en la Usina Cultural
DESCRIPTION:Las obras de la artista Candela Gutiérrez se exhibirán del 14 al 24 de abril en Sabattini 51\, con entrada libre y gratuita. \nLa Usina Cultural (UC) inaugurará una nueva muestra en el Espacio de Artes Visuales. Se trata de “El Poder de la Fragilidad”\, de Candela Gutiérrez. \nLa propuesta de la artista que explora la sensibilidad\, el cuerpo y sus múltiples significados desde una mirada contemporánea podrá visitarse a partir del miércoles 14 de abril a las 19 horas. \nCabe precisar que esta exposición fotográfica se exhibirá en los salones de la UC hasta el viernes 24 de abril\, de 8 a 15\, con entrada libre y gratuita.
URL:https://www.unvm.edu.ar/evento/el-poder-de-la-fragilidad-nueva-muestra-en-la-usina-cultural/
LOCATION:Usina Cultural\, Sabattini 51\, Villa María\, Córdoba\, 5900\, Argentina
CATEGORIES:Destacadas
ATTACH;FMTTYPE=image/jpeg:https://www.unvm.edu.ar/wp-content/uploads/2026/04/Gutierrez_Flyer.jpg
END:VEVENT
BEGIN:VEVENT
DTSTART;VALUE=DATE:20260420
DTEND;VALUE=DATE:20260505
DTSTAMP:20260420T173611
CREATED:20260420T144802Z
LAST-MODIFIED:20260420T144821Z
UID:35359-1776643200-1777939199@www.unvm.edu.ar
SUMMARY:Concurso “Emprender en Escuelas Secundarias”: Edición 2026
DESCRIPTION:La iniciativa busca fomentar el talento emprendedor y la presentación de ideas-proyecto. Está orientado al alumnado de 6° y 7° año de Villa María y la región. Inscripciones abiertas hasta el 4 de mayo.  \nLa Universidad Nacional de Villa María (UNVM)\, a través de su Instituto de Extensión\, habilitó la segunda edición del concurso Emprender en Escuelas Secundarias (EMES). \nEste certamen busca fomentar el talento emprendedor y la presentación de ideas-proyecto que se destaquen por su carácter innovador\, escalable y de triple impacto: económico\, social y ambiental. \nDestinado a estudiantes que transitan la última etapa del Secundario (6° y 7° año) en instituciones de Villa María y la región\, las inscripciones para formar parte de la convocatoria 2026 se encuentran habilitadas hasta el 4 de mayo. \n\n📝¡SUMÁ A TU ESCUELA! \n\nLas instituciones interesadas en obtener mayor información podrán contactarse telefónicamente al (0353) 4648216 interno 2137 o vía mail\, escribiendo a direccion.transferencia@unvm.edu.ar.
URL:https://www.unvm.edu.ar/evento/concurso-emprender-en-escuelas-secundarias-edicion-2026/
CATEGORIES:Destacadas
ATTACH;FMTTYPE=image/png:https://www.unvm.edu.ar/wp-content/uploads/2026/04/EMES-2026-2-02-scaled.png
END:VEVENT
END:VCALENDAR